BEGIN:VCALENDAR
VERSION:2.0
PRODID:-//pretix//theater_festival_isny//
BEGIN:VTIMEZONE
TZID:Europe/Berlin
BEGIN:STANDARD
DTSTART:20001029T040000
RRULE:FREQ=YEARLY;BYDAY=-1SU;BYMONTH=10
TZNAME:CET
TZOFFSETFROM:+0200
TZOFFSETTO:+0100
END:STANDARD
BEGIN:DAYLIGHT
DTSTART:20000326T030000
RRULE:FREQ=YEARLY;BYDAY=-1SU;BYMONTH=3
TZNAME:CEST
TZOFFSETFROM:+0100
TZOFFSETTO:+0200
END:DAYLIGHT
END:VTIMEZONE
BEGIN:VEVENT
UID:pretix-tfi-w2026-163@tickets.tf-isny.de
DTSTART;TZID=Europe/Berlin:20260803T130000
DTEND;TZID=Europe/Berlin:20260807T150000
DESCRIPTION:Tickets: https://tickets.tf-isny.de/tfi/w2026/163/\nVeranstalte
 r: theater festival isny
DTSTAMP:20260422T153633Z
LOCATION:(6) Paul Fagiushaus\, - Gotische Halle -\, Marktplatz 12\, 88316 I
 sny
SUMMARY:WS 48 Shakuhachi - ZENflöte
END:VEVENT
END:VCALENDAR
