BEGIN:VCALENDAR
VERSION:2.0
PRODID:-//pretix//theater_festival_isny//
BEGIN:VTIMEZONE
TZID:Europe/Berlin
BEGIN:STANDARD
DTSTART:20001029T040000
RRULE:FREQ=YEARLY;BYDAY=-1SU;BYMONTH=10
TZNAME:CET
TZOFFSETFROM:+0200
TZOFFSETTO:+0100
END:STANDARD
BEGIN:DAYLIGHT
DTSTART:20000326T030000
RRULE:FREQ=YEARLY;BYDAY=-1SU;BYMONTH=3
TZNAME:CEST
TZOFFSETFROM:+0100
TZOFFSETTO:+0200
END:DAYLIGHT
END:VTIMEZONE
BEGIN:VEVENT
UID:pretix-tfi-a2026-98@tickets.tf-isny.de
DTSTART;TZID=Europe/Berlin:20260731T000000
DTEND;TZID=Europe/Berlin:20260808T235959
DESCRIPTION:Tickets: https://tickets.tf-isny.de/tfi/a2026/98/\nVeranstalter
 : theater festival isny
DTSTAMP:20260421T203525Z
LOCATION:Burkwang\, 88316 Isny
SUMMARY:Dauerkarte
END:VEVENT
BEGIN:VEVENT
UID:pretix-tfi-a2026-99@tickets.tf-isny.de
DTSTART;TZID=Europe/Berlin:20260731T203000
DTEND;TZID=Europe/Berlin:20260731T231500
DESCRIPTION:Tickets: https://tickets.tf-isny.de/tfi/a2026/99/\nEinlass: 31.
 07.2026 20:00\nVeranstalter: theater festival isny
DTSTAMP:20260421T203525Z
LOCATION:Burkwang\, 88316 Isny
SUMMARY:Die Sterne / Acht Eimer Hühnerherzen
END:VEVENT
BEGIN:VEVENT
UID:pretix-tfi-a2026-100@tickets.tf-isny.de
DTSTART;TZID=Europe/Berlin:20260801T203000
DTEND;TZID=Europe/Berlin:20260801T230000
DESCRIPTION:Tickets: https://tickets.tf-isny.de/tfi/a2026/100/\nEinlass: 01
 .08.2026 20:00\nVeranstalter: theater festival isny
DTSTAMP:20260421T203525Z
LOCATION:Burkwang\, 88316 Isny
SUMMARY:All Well
END:VEVENT
BEGIN:VEVENT
UID:pretix-tfi-a2026-101@tickets.tf-isny.de
DTSTART;TZID=Europe/Berlin:20260802T203000
DTEND;TZID=Europe/Berlin:20260802T213000
DESCRIPTION:Tickets: https://tickets.tf-isny.de/tfi/a2026/101/\nEinlass: 02
 .08.2026 20:00\nVeranstalter: theater festival isny
DTSTAMP:20260421T203525Z
LOCATION:Burkwang\, 88316 Isny
SUMMARY:Atelier Lefeuvre & André
END:VEVENT
BEGIN:VEVENT
UID:pretix-tfi-a2026-102@tickets.tf-isny.de
DTSTART;TZID=Europe/Berlin:20260803T190000
DTEND;TZID=Europe/Berlin:20260803T211500
DESCRIPTION:Tickets: https://tickets.tf-isny.de/tfi/a2026/102/\nEinlass: 03
 .08.2026 18:30\nVeranstalter: theater festival isny
DTSTAMP:20260421T203525Z
LOCATION:Burkwang\, 88316 Isny
SUMMARY:Poetry Slam
END:VEVENT
BEGIN:VEVENT
UID:pretix-tfi-a2026-103@tickets.tf-isny.de
DTSTART;TZID=Europe/Berlin:20260803T214500
DTEND;TZID=Europe/Berlin:20260803T230000
DESCRIPTION:Tickets: https://tickets.tf-isny.de/tfi/a2026/103/\nEinlass: 04
 .08.2026 21:15\nVeranstalter: theater festival isny
DTSTAMP:20260421T203525Z
LOCATION:Burkwang\, 88316 Isny
SUMMARY:LA VÍSPERA - Fragments
END:VEVENT
BEGIN:VEVENT
UID:pretix-tfi-a2026-104@tickets.tf-isny.de
DTSTART;TZID=Europe/Berlin:20260804T203000
DTEND;TZID=Europe/Berlin:20260804T235959
DESCRIPTION:Tickets: https://tickets.tf-isny.de/tfi/a2026/104/\nEinlass: 04
 .08.2026 20:00\nVeranstalter: theater festival isny
DTSTAMP:20260421T203525Z
LOCATION:Burkwang\, 88316 Isny
SUMMARY:Common Ground AUF|BRUCH
END:VEVENT
BEGIN:VEVENT
UID:pretix-tfi-a2026-105@tickets.tf-isny.de
DTSTART;TZID=Europe/Berlin:20260805T203000
DTEND;TZID=Europe/Berlin:20260805T214500
DESCRIPTION:Tickets: https://tickets.tf-isny.de/tfi/a2026/105/\nEinlass: 05
 .08.2026 20:00\nVeranstalter: theater festival isny
DTSTAMP:20260421T203525Z
LOCATION:Burkwang\, 88316 Isny
SUMMARY:Fabbrica C - BELLO!
END:VEVENT
BEGIN:VEVENT
UID:pretix-tfi-a2026-106@tickets.tf-isny.de
DTSTART;TZID=Europe/Berlin:20260806T200000
DTEND;TZID=Europe/Berlin:20260806T223000
DESCRIPTION:Tickets: https://tickets.tf-isny.de/tfi/a2026/106/\nEinlass: 06
 .08.2026 19:30\nVeranstalter: theater festival isny
DTSTAMP:20260421T203525Z
LOCATION:Burkwang\, 88316 Isny
SUMMARY:Dilla
END:VEVENT
BEGIN:VEVENT
UID:pretix-tfi-a2026-107@tickets.tf-isny.de
DTSTART;TZID=Europe/Berlin:20260807T140000
DTEND;TZID=Europe/Berlin:20260807T150000
DESCRIPTION:Tickets: https://tickets.tf-isny.de/tfi/a2026/107/\nEinlass: 07
 .08.2026 13:30\nVeranstalter: theater festival isny
DTSTAMP:20260421T203525Z
LOCATION:Burkwang\, 88316 Isny
SUMMARY:Kindertheater Kunstdünger: Rumpelstilzchen oder  Frau Müller spin
 nt
END:VEVENT
BEGIN:VEVENT
UID:pretix-tfi-a2026-108@tickets.tf-isny.de
DTSTART;TZID=Europe/Berlin:20260807T203000
DTEND;TZID=Europe/Berlin:20260807T221500
DESCRIPTION:Tickets: https://tickets.tf-isny.de/tfi/a2026/108/\nEinlass: 07
 .08.2026 19:30\nVeranstalter: theater festival isny
DTSTAMP:20260421T203525Z
LOCATION:Burkwang\, 88316 Isny
SUMMARY:Anthony B
END:VEVENT
BEGIN:VEVENT
UID:pretix-tfi-a2026-109@tickets.tf-isny.de
DTSTART;TZID=Europe/Berlin:20260808T203000
DTEND;TZID=Europe/Berlin:20260808T221500
DESCRIPTION:Tickets: https://tickets.tf-isny.de/tfi/a2026/109/\nEinlass: 08
 .08.2026 20:00\nVeranstalter: theater festival isny
DTSTAMP:20260421T203525Z
LOCATION:Burkwang\, 88316 Isny
SUMMARY:Vincent Peirani - Living Being
END:VEVENT
END:VCALENDAR
