BEGIN:VCALENDAR
VERSION:2.0
PRODID:-//pretix//theater_festival_isny//
BEGIN:VTIMEZONE
TZID:Europe/Berlin
BEGIN:STANDARD
DTSTART:20001029T040000
RRULE:FREQ=YEARLY;BYDAY=-1SU;BYMONTH=10
TZNAME:CET
TZOFFSETFROM:+0200
TZOFFSETTO:+0100
END:STANDARD
BEGIN:DAYLIGHT
DTSTART:20000326T030000
RRULE:FREQ=YEARLY;BYDAY=-1SU;BYMONTH=3
TZNAME:CEST
TZOFFSETFROM:+0100
TZOFFSETTO:+0200
END:DAYLIGHT
END:VTIMEZONE
BEGIN:VEVENT
UID:pretix-tfi-a2026-104@tickets.tf-isny.de
DTSTART;TZID=Europe/Berlin:20260804T203000
DTEND;TZID=Europe/Berlin:20260804T235959
DESCRIPTION:Tickets: https://tickets.tf-isny.de/tfi/a2026/104/\nEinlass: 04
 .08.2026 20:00\nVeranstalter: theater festival isny
DTSTAMP:20260421T175829Z
LOCATION:Burkwang\, 88316 Isny
SUMMARY:Common Ground AUF|BRUCH
END:VEVENT
END:VCALENDAR
